BEGIN:VCALENDAR
VERSION:2.0
PRODID:-//TRINITY Tier One Tactical - ECPv6.15.20//NONSGML v1.0//EN
CALSCALE:GREGORIAN
METHOD:PUBLISH
X-ORIGINAL-URL:https://trinitytieronetactical.com
X-WR-CALDESC:Events for TRINITY Tier One Tactical
REFRESH-INTERVAL;VALUE=DURATION:PT1H
X-Robots-Tag:noindex
X-PUBLISHED-TTL:PT1H
BEGIN:VTIMEZONE
TZID:UTC
BEGIN:STANDARD
TZOFFSETFROM:+0000
TZOFFSETTO:+0000
TZNAME:UTC
DTSTART:20240101T000000
END:STANDARD
END:VTIMEZONE
BEGIN:VEVENT
DTSTART;TZID=UTC:20260412T080000
DTEND;TZID=UTC:20260412T170000
DTSTAMP:20260423T100017
CREATED:20260317T201616Z
LAST-MODIFIED:20260317T205230Z
UID:1503-1775980800-1776013200@trinitytieronetactical.com
SUMMARY:NY 18 Hour CCW Class - April 11 - 12
DESCRIPTION:NYS Concealed Carry Firearms Safety Course  $495 ($50 deposit) Limited spaces remaining    \nMeets ALL NYS DCJS Requirements  \n\n📌 Course Overview\nOur 18-Hour NYS Concealed Carry Firearms Safety Course provides the required training to apply for a New York State concealed carry permit under the updated 2022 DCJS standards. This program is designed for responsible citizens who want to meet all state requirements while gaining real-world firearm safety knowledge. \nThis comprehensive training combines classroom instruction and live range practice\, giving you the confidence\, skills\, and legal awareness needed to carry safely and responsibly. \n\n📚 Course Breakdown\n\n\n16 Hours Classroom Instruction – Firearm safety rules\, safe storage\, NYS laws\, situational awareness\, conflict de-escalation\, and use-of-force principles. \n\n\n2 Hours Live-Fire Training – Supervised practice at the range with hands-on drills. \n\n\nWritten Exam + Live-Fire Qualification – Meets all DCJS requirements. \n\n\nLocation: White Plains\, NY \n\n\n\n👨‍🏫 Professional Instructors\nAll courses are taught by State-Authorized NRA Certified Pistol Instructors with years of teaching and law enforcement experience. Our focus is on safety\, professionalism\, and preparing you with both the knowledge and skills required by New York State. \n\n🎯 Why Take This Course?\n\n\nFully compliant with NYS DCJS Standards (Aug. 2022) \n\n\nMeets the mandatory 18-hour training requirement \n\n\nSmall class sizes – only 10 students per date for personalized instruction \n\n\nSupportive environment for both beginners and experienced shooters \n\n\n\n📝 Registration\n\nSelect your preferred date from the schedule and register directly online.\nClasses fill quickly – early registration is strongly recommended.\n\n\n 
URL:https://trinitytieronetactical.com/event/ny-18-hour-ccw-class-april-11-12/
LOCATION:TRINITY Tier One Tactical\, White Plains\, New York\, NY\, 10604\, United States
ATTACH;FMTTYPE=image/webp:https://trinitytieronetactical.com/wp-content/uploads/2025/08/Executive-Training.webp
END:VEVENT
BEGIN:VEVENT
DTSTART;TZID=UTC:20250910T080000
DTEND;TZID=UTC:20250910T170000
DTSTAMP:20260423T100017
CREATED:20250915T222953Z
LAST-MODIFIED:20250917T235203Z
UID:1211-1757491200-1757523600@trinitytieronetactical.com
SUMMARY:New Jersey- Connecticut- Utah CCW Permits
DESCRIPTION:
URL:https://trinitytieronetactical.com/event/new-jersey-connecticut-utah-ccw-permits/
LOCATION:NY
END:VEVENT
END:VCALENDAR